BEGIN:VCALENDAR
VERSION:2.0
PRODID:-//Montrose Sailing Club - ECPv6.15.20//NONSGML v1.0//EN
CALSCALE:GREGORIAN
METHOD:PUBLISH
X-ORIGINAL-URL:https://montrosesailingclub.co.uk
X-WR-CALDESC:Events for Montrose Sailing Club
REFRESH-INTERVAL;VALUE=DURATION:PT1H
X-Robots-Tag:noindex
X-PUBLISHED-TTL:PT1H
BEGIN:VTIMEZONE
TZID:Europe/London
BEGIN:DAYLIGHT
TZOFFSETFROM:+0000
TZOFFSETTO:+0100
TZNAME:BST
DTSTART:20240331T010000
END:DAYLIGHT
BEGIN:STANDARD
TZOFFSETFROM:+0100
TZOFFSETTO:+0000
TZNAME:GMT
DTSTART:20241027T010000
END:STANDARD
BEGIN:DAYLIGHT
TZOFFSETFROM:+0000
TZOFFSETTO:+0100
TZNAME:BST
DTSTART:20250330T010000
END:DAYLIGHT
BEGIN:STANDARD
TZOFFSETFROM:+0100
TZOFFSETTO:+0000
TZNAME:GMT
DTSTART:20251026T010000
END:STANDARD
BEGIN:DAYLIGHT
TZOFFSETFROM:+0000
TZOFFSETTO:+0100
TZNAME:BST
DTSTART:20260329T010000
END:DAYLIGHT
BEGIN:STANDARD
TZOFFSETFROM:+0100
TZOFFSETTO:+0000
TZNAME:GMT
DTSTART:20261025T010000
END:STANDARD
END:VTIMEZONE
BEGIN:VEVENT
DTSTART;TZID=Europe/London:20251018T112600
DTEND;TZID=Europe/London:20251018T145600
DTSTAMP:20260419T204817
CREATED:20250209T151321Z
LAST-MODIFIED:20250209T151321Z
UID:5060-1760786760-1760799360@montrosesailingclub.co.uk
SUMMARY:Autumn Pursuit
DESCRIPTION:Autumn Pursuit without Assigned duties. \nPlan to start racing at: 11:26 \nHigh Tide: 13:26 \nTide Height: 4.42m \nSunset: 18:00
URL:https://montrosesailingclub.co.uk/event/autumn-pursuit-10/
LOCATION:Montrose Sailing Club\, 1 Esk Road\, Montrose\, Angus\, DD10 9NT\, United Kingdom
CATEGORIES:Autumn Pursuit
ATTACH;FMTTYPE=image/jpeg:https://montrosesailingclub.co.uk/wp-content/uploads/2025/02/DSC00594-scaled-3rOfnb.tmp_.jpg
END:VEVENT
END:VCALENDAR