BEGIN:VCALENDAR
VERSION:2.0
PRODID:-//Montrose Sailing Club - ECPv6.15.20//NONSGML v1.0//EN
CALSCALE:GREGORIAN
METHOD:PUBLISH
X-ORIGINAL-URL:https://montrosesailingclub.co.uk
X-WR-CALDESC:Events for Montrose Sailing Club
REFRESH-INTERVAL;VALUE=DURATION:PT1H
X-Robots-Tag:noindex
X-PUBLISHED-TTL:PT1H
BEGIN:VTIMEZONE
TZID:Europe/London
BEGIN:DAYLIGHT
TZOFFSETFROM:+0000
TZOFFSETTO:+0100
TZNAME:BST
DTSTART:20250330T010000
END:DAYLIGHT
BEGIN:STANDARD
TZOFFSETFROM:+0100
TZOFFSETTO:+0000
TZNAME:GMT
DTSTART:20251026T010000
END:STANDARD
BEGIN:DAYLIGHT
TZOFFSETFROM:+0000
TZOFFSETTO:+0100
TZNAME:BST
DTSTART:20260329T010000
END:DAYLIGHT
BEGIN:STANDARD
TZOFFSETFROM:+0100
TZOFFSETTO:+0000
TZNAME:GMT
DTSTART:20261025T010000
END:STANDARD
BEGIN:DAYLIGHT
TZOFFSETFROM:+0000
TZOFFSETTO:+0100
TZNAME:BST
DTSTART:20270328T010000
END:DAYLIGHT
BEGIN:STANDARD
TZOFFSETFROM:+0100
TZOFFSETTO:+0000
TZNAME:GMT
DTSTART:20271031T010000
END:STANDARD
END:VTIMEZONE
BEGIN:VEVENT
DTSTART;TZID=Europe/London:20260702T145100
DTEND;TZID=Europe/London:20260702T182100
DTSTAMP:20260424T140101
CREATED:20260214T174702Z
LAST-MODIFIED:20260215T121832Z
UID:5397-1783003860-1783016460@montrosesailingclub.co.uk
SUMMARY:Free Sailing
DESCRIPTION:Free Sailing without Assigned duties. \nPlan to start sailing at: 14:51 \nHigh Tide: 16:51 \nTide Height: 4.30m \nSunset: 22:03
URL:https://montrosesailingclub.co.uk/event/free-sailing-32/
LOCATION:Montrose Sailing Club\, 1 Esk Road\, Montrose\, Angus\, DD10 9NT\, United Kingdom
CATEGORIES:Free Sailing
ATTACH;FMTTYPE=image/jpeg:https://montrosesailingclub.co.uk/wp-content/uploads/2024/02/clouds.jpg
END:VEVENT
BEGIN:VEVENT
DTSTART;TZID=Europe/London:20260703T152600
DTEND;TZID=Europe/London:20260703T185600
DTSTAMP:20260424T140101
CREATED:20260214T174704Z
LAST-MODIFIED:20260215T121833Z
UID:5398-1783092360-1783104960@montrosesailingclub.co.uk
SUMMARY:Free Sailing
DESCRIPTION:Free Sailing without Assigned duties. \nPlan to start sailing at: 15:26 \nHigh Tide: 17:26 \nTide Height: 4.26m \nSunset: 22:03
URL:https://montrosesailingclub.co.uk/event/free-sailing-33/
LOCATION:Montrose Sailing Club\, 1 Esk Road\, Montrose\, Angus\, DD10 9NT\, United Kingdom
CATEGORIES:Free Sailing
ATTACH;FMTTYPE=image/jpeg:https://montrosesailingclub.co.uk/wp-content/uploads/2024/02/clouds.jpg
END:VEVENT
BEGIN:VEVENT
DTSTART;TZID=Europe/London:20260704T160400
DTEND;TZID=Europe/London:20260704T193400
DTSTAMP:20260424T140101
CREATED:20260214T174705Z
LAST-MODIFIED:20260215T121834Z
UID:5399-1783181040-1783193640@montrosesailingclub.co.uk
SUMMARY:Free Sailing
DESCRIPTION:Free Sailing without Assigned duties. \nPlan to start sailing at: 16:04 \nHigh Tide: 18:04 \nTide Height: 4.20m \nSunset: 22:02
URL:https://montrosesailingclub.co.uk/event/free-sailing-34/
LOCATION:Montrose Sailing Club\, 1 Esk Road\, Montrose\, Angus\, DD10 9NT\, United Kingdom
CATEGORIES:Free Sailing
ATTACH;FMTTYPE=image/jpeg:https://montrosesailingclub.co.uk/wp-content/uploads/2024/02/clouds.jpg
END:VEVENT
BEGIN:VEVENT
DTSTART;TZID=Europe/London:20260705T164400
DTEND;TZID=Europe/London:20260705T201400
DTSTAMP:20260424T140101
CREATED:20260214T174707Z
LAST-MODIFIED:20260215T121835Z
UID:5400-1783269840-1783282440@montrosesailingclub.co.uk
SUMMARY:Free Sailing
DESCRIPTION:Free Sailing without Assigned duties. \nPlan to start sailing at: 16:44 \nHigh Tide: 18:44 \nTide Height: 4.11m \nSunset: 22:01
URL:https://montrosesailingclub.co.uk/event/free-sailing-35/
LOCATION:Montrose Sailing Club\, 1 Esk Road\, Montrose\, Angus\, DD10 9NT\, United Kingdom
CATEGORIES:Free Sailing
ATTACH;FMTTYPE=image/jpeg:https://montrosesailingclub.co.uk/wp-content/uploads/2024/02/clouds.jpg
END:VEVENT
BEGIN:VEVENT
DTSTART;TZID=Europe/London:20260725T062800
DTEND;TZID=Europe/London:20260725T095800
DTSTAMP:20260424T140101
CREATED:20260214T174722Z
LAST-MODIFIED:20260215T121903Z
UID:5405-1784960880-1784973480@montrosesailingclub.co.uk
SUMMARY:Free Sailing
DESCRIPTION:Free Sailing without Assigned duties. \nPlan to start sailing at: 10:27 \nHigh Tide: 12:27 \nTide Height: 3.75m \nSunset: 21:35
URL:https://montrosesailingclub.co.uk/event/free-sailing-36/
LOCATION:Montrose Sailing Club\, 1 Esk Road\, Montrose\, Angus\, DD10 9NT\, United Kingdom
CATEGORIES:Free Sailing
ATTACH;FMTTYPE=image/jpeg:https://montrosesailingclub.co.uk/wp-content/uploads/2024/02/clouds.jpg
END:VEVENT
END:VCALENDAR